BEGIN:VCALENDAR
VERSION:2.0
PRODID:SchoolNow
CALSCALE:GREGORIAN
BEGIN:VEVENT
UID:74eceac4-0d07-11ed-a90a-0a171eaba7ff
DTSTAMP:20220726T172159Z
SUMMARY:Convocation Day (Professional Development)
URL;VALUE=URI:https://www.rpcc.edu/calendar/3254509/convocation-day-profess
 ional-development
DTSTART;VALUE=DATE:20220815
DTEND;VALUE=DATE:20220816
END:VEVENT
END:VCALENDAR
