BEGIN:VCALENDAR
VERSION:2.0
PRODID:SchoolNow
CALSCALE:GREGORIAN
BEGIN:VEVENT
UID:16174c84-0c52-11ed-b468-020c674ffaf1
DTSTAMP:20220725T194341Z
SUMMARY:St. Charles Campus Health Fair & Blood Drive
LOCATION:St. Charles Campus
URL;VALUE=URI:https://www.rpcc.edu/calendar/3253245/st-charles-campus-healt
 h-fair-blood-drive
DTSTART:20221024T150000Z
DTEND:20221024T190000Z
END:VEVENT
END:VCALENDAR
