BEGIN:VCALENDAR
VERSION:2.0
PRODID:SchoolNow
CALSCALE:GREGORIAN
BEGIN:VEVENT
UID:577abf7e-0795-11ed-9767-02679c9b5d8d
DTSTAMP:20220719T190231Z
SUMMARY:Rougarou Christmas
URL;VALUE=URI:https://www.rpcc.edu/calendar/3248684/rougarou-christmas
DTSTART:20221208T233000Z
DTEND:20221209T013000Z
END:VEVENT
END:VCALENDAR
