BEGIN:VCALENDAR
VERSION:2.0
PRODID:SchoolNow
CALSCALE:GREGORIAN
BEGIN:VEVENT
UID:b60a8256-077a-11ed-8afd-0aeab622e103
DTSTAMP:20220719T155153Z
SUMMARY:Saints Monday (Snacks and Games)
LOCATION:St. Charles Campus
URL;VALUE=URI:https://www.rpcc.edu/calendar/3248536/saints-monday-snacks-an
 d-games
DTSTART:20221107T165000Z
DTEND:20221107T175000Z
END:VEVENT
END:VCALENDAR
