BEGIN:VCALENDAR
VERSION:2.0
PRODID:SchoolNow
CALSCALE:GREGORIAN
BEGIN:VEVENT
UID:8f574e00-077a-11ed-9d18-0adb704e7cdd
DTSTAMP:20220719T155049Z
SUMMARY:Registration for Spring Semester Begins
URL;VALUE=URI:https://www.rpcc.edu/calendar/3248535/registration-for-spring
 -semester-begins
DTSTART;VALUE=DATE:20221101
DTEND;VALUE=DATE:20221102
END:VEVENT
END:VCALENDAR
