BEGIN:VCALENDAR
VERSION:2.0
PRODID:SchoolNow
CALSCALE:GREGORIAN
BEGIN:VEVENT
UID:750c1e0e-077a-11ed-96b7-0adb704e7cdd
DTSTAMP:20220719T155004Z
SUMMARY:Food Drive Begins
LOCATION:St. Charles
URL;VALUE=URI:https://www.rpcc.edu/calendar/3248534/food-drive-begins
DTSTART;VALUE=DATE:20221024
DTEND;VALUE=DATE:20221025
END:VEVENT
END:VCALENDAR
