BEGIN:VCALENDAR
VERSION:2.0
PRODID:SchoolNow
CALSCALE:GREGORIAN
BEGIN:VEVENT
UID:2fccbb0a-077a-11ed-ab8e-0a97b9576823
DTSTAMP:20220719T154808Z
SUMMARY:Career Fair
LOCATION:St. Charles Campus
URL;VALUE=URI:https://www.rpcc.edu/calendar/3248532/career-fair
DTSTART;VALUE=DATE:20220915
DTEND;VALUE=DATE:20220916
END:VEVENT
END:VCALENDAR
