BEGIN:VCALENDAR
VERSION:2.0
PRODID:SchoolNow
CALSCALE:GREGORIAN
BEGIN:VEVENT
UID:0fb29fd8-077a-11ed-be39-0a97b9576823
DTSTAMP:20220812T165448Z
SUMMARY:Circus Themed Welcome Back Event (Food and Games)
LOCATION:St. Charles Campus
URL;VALUE=URI:https://www.rpcc.edu/calendar/3248531/welcome-back-event-food
 -and-games
DTSTART;VALUE=DATE:20220822
DTEND;VALUE=DATE:20220823
END:VEVENT
END:VCALENDAR
