BEGIN:VCALENDAR
VERSION:2.0
PRODID:SchoolNow
CALSCALE:GREGORIAN
BEGIN:VEVENT
UID:f52057e4-046f-11ed-b34c-0e844f2a7d17
DTSTAMP:20220722T202820Z
SUMMARY:English Boot Camp (WorkReadyU) Kicks Off
LOCATION:St. Charles Campus
URL;VALUE=URI:https://www.rpcc.edu/calendar/3246201/english-boot-camp-workr
 eadyu-kicks-off
DTSTART;VALUE=DATE:20220725
DTEND;VALUE=DATE:20220726
END:VEVENT
END:VCALENDAR
