BEGIN:VCALENDAR
VERSION:2.0
PRODID:SchoolNow
CALSCALE:GREGORIAN
BEGIN:VEVENT
UID:b50115fe-046f-11ed-aff9-0e844f2a7d17
DTSTAMP:20220715T185606Z
SUMMARY:Scholarship Breakfast
URL;VALUE=URI:https://www.rpcc.edu/calendar/3246200/scholarship-breakfast
DTSTART:20220812T130000Z
DTEND:20220812T140000Z
END:VEVENT
END:VCALENDAR
