BEGIN:VCALENDAR
VERSION:2.0
PRODID:SchoolNow
CALSCALE:GREGORIAN
BEGIN:VEVENT
UID:a9a7c4f0-046f-11ed-a9c8-0e844f2a7d17
DTSTAMP:20220715T185515Z
SUMMARY:Rougarou Plus One Scholarship Deadline
URL;VALUE=URI:https://www.rpcc.edu/calendar/3246199/rougarou-plus-one-schol
 arship-deadline
DTSTART;VALUE=DATE:20220812
DTEND;VALUE=DATE:20220813
END:VEVENT
END:VCALENDAR
