BEGIN:VCALENDAR
VERSION:2.0
PRODID:SchoolNow
CALSCALE:GREGORIAN
BEGIN:VEVENT
UID:7520cac4-046f-11ed-8aaa-0e844f2a7d17
DTSTAMP:20220715T185347Z
SUMMARY:Workforce Instructor Open House at Reserve
LOCATION:Reserve Campus
URL;VALUE=URI:https://www.rpcc.edu/calendar/3246198/workforce-instructor-op
 en-house-at-reserve
DTSTART:20220726T230000Z
DTEND:20220727T003000Z
END:VEVENT
END:VCALENDAR
