BEGIN:VCALENDAR
VERSION:2.0
PRODID:SchoolNow
CALSCALE:GREGORIAN
BEGIN:VEVENT
UID:5eba863a-046f-11ed-8c4c-0e844f2a7d17
DTSTAMP:20220715T185309Z
SUMMARY:Workforce Instructor Open House at Westside
LOCATION:Westside Campus
URL;VALUE=URI:https://www.rpcc.edu/calendar/3246197/workforce-instructor-op
 en-house-at-westside
DTSTART:20220728T230000Z
DTEND:20220729T003000Z
END:VEVENT
END:VCALENDAR
