BEGIN:VCALENDAR
VERSION:2.0
PRODID:SchoolNow
CALSCALE:GREGORIAN
BEGIN:VEVENT
UID:0afe8fec-02e8-11ed-bb8b-0ec0e2f11e91
DTSTAMP:20220713T201155Z
SUMMARY:RPCC PET Plant Commission Ceremony
LOCATION:Gonzales Campus
URL;VALUE=URI:https://www.rpcc.edu/calendar/3243447/rpcc-pet-plant-commissi
 on-ceremony
DTSTART:20220729T130000Z
DTEND:20220729T140000Z
END:VEVENT
END:VCALENDAR
