BEGIN:VCALENDAR
VERSION:2.0
PRODID:SchoolNow
CALSCALE:GREGORIAN
BEGIN:VEVENT
UID:724aad38-f8a3-11ec-abb4-0ed417a33657
DTSTAMP:20220630T183542Z
SUMMARY:Fall 2022 Classes begin
URL;VALUE=URI:https://www.rpcc.edu/calendar/3235176/fall-2022-classes-begin
DTSTART;VALUE=DATE:20220822
DTEND;VALUE=DATE:20220823
END:VEVENT
END:VCALENDAR
