BEGIN:VCALENDAR
VERSION:2.0
PRODID:SchoolNow
CALSCALE:GREGORIAN
BEGIN:VEVENT
UID:34adf9b6-f269-11ec-894a-02a5a969191b
DTSTAMP:20220622T202341Z
SUMMARY:Instructor Open House
URL;VALUE=URI:https://www.rpcc.edu/calendar/3227478/instructor-open-house
DTSTART:20220628T230000Z
DTEND:20220629T003000Z
ATTACH;FILENAME=Instructor Open House 1 (2).jpg;FMTTYPE=image/jpeg:https://
 campussuite-storage.s3.amazonaws.com/prod/1559066/3b154aa2-a10c-11eb-a551-
 0a8cf5ce3b3d/2438678/2987c5a8-f269-11ec-a639-02a5a969191b/file/Instructor 
 Open House 1 (2).jpg
END:VEVENT
END:VCALENDAR
