BEGIN:VCALENDAR
VERSION:2.0
PRODID:SchoolNow
CALSCALE:GREGORIAN
BEGIN:VEVENT
UID:4f3dff1c-e8da-11ec-ab95-0e4e53052bef
DTSTAMP:20220610T162949Z
SUMMARY:Rex and the Krewe!
LOCATION:St. Charles Campus
URL;VALUE=URI:https://www.rpcc.edu/calendar/3217053/rex-and-the-krewe
DTSTART:20220707T210000Z
DTEND:20220707T233000Z
ATTACH;FILENAME=Rex and the Krewe Flyer  (9).jpg;FMTTYPE=image/jpeg:https:/
 /campussuite-storage.s3.amazonaws.com/prod/1559066/3b154aa2-a10c-11eb-a551
 -0a8cf5ce3b3d/2433798/44aa2012-e8da-11ec-9d9d-02d18d43fbc3/file/Rex and th
 e Krewe Flyer  (9).jpg
END:VEVENT
END:VCALENDAR
