BEGIN:VCALENDAR
VERSION:2.0
PRODID:SchoolNow
CALSCALE:GREGORIAN
BEGIN:VEVENT
UID:2ea7ff80-d202-11ec-8c88-0a9be289f199
DTSTAMP:20220531T144345Z
SUMMARY:Rougarou Rendezvous
LOCATION:Westside Campus
URL;VALUE=URI:https://www.rpcc.edu/calendar/3198506/rougarou-rendezvous
DTSTART:20220625T150000Z
DTEND:20220625T190000Z
ATTACH;FILENAME=Rougarou Rendezvous! (4).jpg;FMTTYPE=image/jpeg:https://cam
 pussuite-storage.s3.amazonaws.com/prod/1559066/3b154aa2-a10c-11eb-a551-0a8
 cf5ce3b3d/2425977/088dcbca-e0f0-11ec-b1b5-0e8aa5f04211/file/Rougarou Rende
 zvous! (4).jpg
END:VEVENT
END:VCALENDAR
