BEGIN:VCALENDAR
VERSION:2.0
PRODID:SchoolNow
CALSCALE:GREGORIAN
BEGIN:VEVENT
UID:4f64393e-c800-11ec-8780-020b9b95200d
DTSTAMP:20220429T210659Z
SUMMARY:Retiree Recognition Ceremony
LOCATION:Multipurpose room\, Gonzales Campus
URL;VALUE=URI:https://www.rpcc.edu/calendar/3185269/retiree-recognition-cer
 emony
DTSTART:20220506T133000Z
DTEND:20220506T143000Z
ATTACH;FILENAME=Blue and Gold Dots Retirement Party Invitation (3).jpg;FMTT
 YPE=image/jpeg:https://campussuite-storage.s3.amazonaws.com/prod/1559066/3
 b154aa2-a10c-11eb-a551-0a8cf5ce3b3d/2409233/34e1a9e8-c800-11ec-96de-020b9b
 95200d/file/Blue and Gold Dots Retirement Party Invitation (3).jpg
END:VEVENT
END:VCALENDAR
