BEGIN:VCALENDAR
VERSION:2.0
PRODID:SchoolNow
CALSCALE:GREGORIAN
BEGIN:VEVENT
UID:d72d8bbe-c7ff-11ec-83b1-020b9b95200d
DTSTAMP:20220429T210338Z
SUMMARY:Rex's Birthday/Nacho Party
URL;VALUE=URI:https://www.rpcc.edu/calendar/3185268/rexs-birthday-nacho-par
 ty
DTSTART:20220505T160000Z
DTEND:20220505T170000Z
ATTACH;FILENAME=Nacho Party  (1).jpg;FMTTYPE=image/jpeg:https://campussuite
 -storage.s3.amazonaws.com/prod/1559066/3b154aa2-a10c-11eb-a551-0a8cf5ce3b3
 d/2409226/a8108840-c7ff-11ec-9ef2-020b9b95200d/file/Nacho Party  (1).jpg
END:VEVENT
END:VCALENDAR
