BEGIN:VCALENDAR
VERSION:2.0
PRODID:SchoolNow
CALSCALE:GREGORIAN
BEGIN:VEVENT
UID:fc83a494-c7fe-11ec-a2e4-020b9b95200d
DTSTAMP:20220429T205731Z
SUMMARY:Where's Rex Challenge?
URL;VALUE=URI:https://www.rpcc.edu/calendar/3185266/wheres-rex-challenge
DTSTART:20220502T160000Z
DTEND:20220502T170000Z
END:VEVENT
END:VCALENDAR
