BEGIN:VCALENDAR
VERSION:2.0
PRODID:SchoolNow
CALSCALE:GREGORIAN
BEGIN:VEVENT
UID:cf158e8c-c187-11ec-8eda-0e47263453eb
DTSTAMP:20220606T212113Z
SUMMARY:STEM Night
LOCATION:Reserve Campus
URL;VALUE=URI:https://www.rpcc.edu/calendar/3177101/stem-night
DTSTART:20220616T213000Z
DTEND:20220616T233000Z
ATTACH;FILENAME=Reserve stem night flyer.jpg;FMTTYPE=image/jpeg:https://cam
 pussuite-storage.s3.amazonaws.com/prod/1559066/3b154aa2-a10c-11eb-a551-0a8
 cf5ce3b3d/2429560/55d400f0-e5de-11ec-b46a-0207fb46f80b/file/Reserve stem n
 ight flyer.jpg
END:VEVENT
END:VCALENDAR
