BEGIN:VCALENDAR
VERSION:2.0
PRODID:SchoolNow
CALSCALE:GREGORIAN
BEGIN:VEVENT
UID:a50d1056-c187-11ec-b55a-0a88c0f59fd9
DTSTAMP:20220512T144312Z
SUMMARY:Rougarou Fest!
LOCATION:Gonzales Campus
URL;VALUE=URI:https://www.rpcc.edu/calendar/3177100/rougarou-fest
DTSTART:20220623T200000Z
DTEND:20220624T000000Z
ATTACH;FILENAME=Rougarou Fest Flyer (2).jpg;FMTTYPE=image/jpeg:https://camp
 ussuite-storage.s3.amazonaws.com/prod/1559066/3b154aa2-a10c-11eb-a551-0a8c
 f5ce3b3d/2415286/d06b5534-d201-11ec-86ee-0a9be289f199/file/Rougarou Fest F
 lyer (2).jpg
END:VEVENT
END:VCALENDAR
