BEGIN:VCALENDAR
VERSION:2.0
PRODID:SchoolNow
CALSCALE:GREGORIAN
BEGIN:VEVENT
UID:13618f3c-c183-11ec-bd66-0aeb61cd2a03
DTSTAMP:20220421T145525Z
SUMMARY:St. Charles Campus Open House
LOCATION:13145 Hwy 90 Boutte\, La 70039
URL;VALUE=URI:https://www.rpcc.edu/calendar/3177098/st-charles-campus-open-
 house
DTSTART:20220602T150000Z
DTEND:20220602T200000Z
ATTACH;FILENAME=St. Charles Open House 2.jpg;FMTTYPE=image/jpeg:https://cam
 pussuite-storage.s3.amazonaws.com/prod/1559066/3b154aa2-a10c-11eb-a551-0a8
 cf5ce3b3d/2405119/0301f6fe-c183-11ec-a513-0aeb61cd2a03/file/St. Charles Op
 en House 2.jpg
END:VEVENT
END:VCALENDAR
