BEGIN:VCALENDAR
VERSION:2.0
PRODID:SchoolNow
CALSCALE:GREGORIAN
BEGIN:VEVENT
UID:73df5f98-c182-11ec-95d7-0e8828a4b419
DTSTAMP:20220421T145057Z
SUMMARY:Online Zydeco Webinar Event
URL;VALUE=URI:https://www.rpcc.edu/calendar/3177097/online-zydeco-webinar-e
 vent
DTSTART:20220425T100000Z
DTEND:20220425T110000Z
ATTACH;FILENAME=zydeco.png;FMTTYPE=image/png:https://campussuite-storage.s3
 .amazonaws.com/prod/1559066/3b154aa2-a10c-11eb-a551-0a8cf5ce3b3d/2405118/6
 600db68-c182-11ec-866f-0e8828a4b419/file/zydeco.png
END:VEVENT
END:VCALENDAR
