BEGIN:VCALENDAR
VERSION:2.0
PRODID:SchoolNow
CALSCALE:GREGORIAN
BEGIN:VEVENT
UID:f2785044-2c2c-11ec-93d6-0af31bdc9fb7
DTSTAMP:20220503T150730Z
SUMMARY:Spring 2022 Commencement Ceremony
LOCATION:Household of Faith Church Airline Highway Campus 10469 Airline Hig
 hway Gonzales\, LA 70737
URL;VALUE=URI:https://www.rpcc.edu/calendar/2811892/spring-2021-commencemen
 t-ceremony
DTSTART;VALUE=DATE:20220518
DTEND;VALUE=DATE:20220519
ATTACH;FILENAME=Graduation.jpg;FMTTYPE=image/jpeg:https://campussuite-stora
 ge.s3.amazonaws.com/prod/1559066/3b154aa2-a10c-11eb-a551-0a8cf5ce3b3d/2410
 286/a81377cc-caf1-11ec-8dab-0eb41eabbc9f/file/Graduation.jpg
END:VEVENT
END:VCALENDAR
