BEGIN:VCALENDAR
VERSION:2.0
PRODID:SchoolNow
CALSCALE:GREGORIAN
BEGIN:VEVENT
UID:9ee31d9c-2c2c-11ec-9bf1-0af31bdc9fb7
DTSTAMP:20211013T135109Z
SUMMARY:Last Day to Report Final Grades
URL;VALUE=URI:https://www.rpcc.edu/calendar/2811891/last-day-to-report-fina
 l-grades
DTSTART;VALUE=DATE:20220516
DTEND;VALUE=DATE:20220517
END:VEVENT
END:VCALENDAR
