BEGIN:VCALENDAR
VERSION:2.0
PRODID:SchoolNow
CALSCALE:GREGORIAN
BEGIN:VEVENT
UID:3cdda784-2c2c-11ec-a1e2-0af31bdc9fb7
DTSTAMP:20211013T134931Z
SUMMARY:Final Exams
URL;VALUE=URI:https://www.rpcc.edu/calendar/2811890/final-exams
DTSTART:20220509T050000Z
DTEND:20220512T050000Z
END:VEVENT
END:VCALENDAR
