BEGIN:VCALENDAR
VERSION:2.0
PRODID:SchoolNow
CALSCALE:GREGORIAN
BEGIN:VEVENT
UID:1e65126a-2c2c-11ec-bfc4-0af31bdc9fb7
DTSTAMP:20211013T134734Z
SUMMARY:Last Day of Classes
URL;VALUE=URI:https://www.rpcc.edu/calendar/2811889/last-day-of-classes
DTSTART;VALUE=DATE:20220506
DTEND;VALUE=DATE:20220507
END:VEVENT
END:VCALENDAR
