BEGIN:VCALENDAR
VERSION:2.0
PRODID:SchoolNow
CALSCALE:GREGORIAN
BEGIN:VEVENT
UID:c91ab490-2c2b-11ec-965e-0af31bdc9fb7
DTSTAMP:20211013T140949Z
SUMMARY:Last Day to Resign/Withdraw with W Grade
URL;VALUE=URI:https://www.rpcc.edu/calendar/2811863/last-day-to-resign-with
 draw
DTSTART;VALUE=DATE:20220422
DTEND;VALUE=DATE:20220423
END:VEVENT
END:VCALENDAR
