BEGIN:VCALENDAR
VERSION:2.0
PRODID:SchoolNow
CALSCALE:GREGORIAN
BEGIN:VEVENT
UID:9dac9bfe-2c29-11ec-afd5-0eb912eee06b
DTSTAMP:20211013T132939Z
SUMMARY:Good Friday
URL;VALUE=URI:https://www.rpcc.edu/calendar/2811825/good-friday
DTSTART:20220415T050000Z
DTEND:20220415T060000Z
END:VEVENT
END:VCALENDAR
