BEGIN:VCALENDAR
VERSION:2.0
PRODID:SchoolNow
CALSCALE:GREGORIAN
BEGIN:VEVENT
UID:a5a5fc6c-2c27-11ec-8270-0ebcb4acab43
DTSTAMP:20211013T131533Z
SUMMARY:Spring Break
URL;VALUE=URI:https://www.rpcc.edu/calendar/2811270/spring-break
DTSTART:20220415T050000Z
DTEND:20220423T050000Z
END:VEVENT
END:VCALENDAR
